BEGIN:VCALENDAR
VERSION:2.0
PRODID:-//Central Illinois Foodbank - ECPv6.12.0//NONSGML v1.0//EN
CALSCALE:GREGORIAN
METHOD:PUBLISH
X-WR-CALNAME:Central Illinois Foodbank
X-ORIGINAL-URL:https://centralilfoodbank.org
X-WR-CALDESC:Events for Central Illinois Foodbank
REFRESH-INTERVAL;VALUE=DURATION:PT1H
X-Robots-Tag:noindex
X-PUBLISHED-TTL:PT1H
BEGIN:VTIMEZONE
TZID:UTC
BEGIN:STANDARD
TZOFFSETFROM:+0000
TZOFFSETTO:+0000
TZNAME:UTC
DTSTART:20240101T000000
END:STANDARD
END:VTIMEZONE
BEGIN:VEVENT
DTSTART;TZID=UTC:20240914T130000
DTEND;TZID=UTC:20240915T170000
DTSTAMP:20260420T200915
CREATED:20240827T202443Z
LAST-MODIFIED:20240904T194154Z
UID:5186-1726318800-1726419600@centralilfoodbank.org
SUMMARY:Oasis Senior Center Lincoln IL
DESCRIPTION:Lincoln Residents and neighbors!  We’re hosting a walk-up food distribution event tomorrow! \n\n\n 1 p.m.\, Wednesday\, Aug. 28 (while supplies lasts)\nOasis Senior Center\, 2810 Woodlawn Rd\, Lincoln\, IL 62656\nThis is a walk-up distribution\, please bring a bag or box to place your items in. No I.D. or Registration required.\n\n\nOasis Senior Center Lincoln IL
URL:https://centralilfoodbank.org/event/oasis-senior-center-lincoln-il/
LOCATION:Oasis Senior Center Lincoln\, IL\, 2810 Woodlawn Rd\, Lincoln\, IL\, 62656\, United States
CATEGORIES:Community Events
ATTACH;FMTTYPE=image/jpeg:https://centralilfoodbank.org/wp-content/uploads/2024/08/lincoln.jpg
END:VEVENT
END:VCALENDAR